BEGIN:VCALENDAR
VERSION:2.0
PRODID:-//Mikael Karlsson - ECPv6.15.20//NONSGML v1.0//EN
CALSCALE:GREGORIAN
METHOD:PUBLISH
X-ORIGINAL-URL:https://mikaelk.com
X-WR-CALDESC:Events for Mikael Karlsson
REFRESH-INTERVAL;VALUE=DURATION:PT1H
X-Robots-Tag:noindex
X-PUBLISHED-TTL:PT1H
BEGIN:VTIMEZONE
TZID:UTC
BEGIN:STANDARD
TZOFFSETFROM:+0000
TZOFFSETTO:+0000
TZNAME:UTC
DTSTART:20250101T000000
END:STANDARD
END:VTIMEZONE
BEGIN:VEVENT
DTSTART;VALUE=DATE:20260612
DTEND;VALUE=DATE:20260615
DTSTAMP:20260422T152014
CREATED:20251227T224617Z
LAST-MODIFIED:20251227T224617Z
UID:3697-1781222400-1781481599@mikaelk.com
SUMMARY:Alexander Ekman's "Midsummer Night's Dream" - Dortmund Ballet - LG Arts Center (Seoul\, South Korea)
DESCRIPTION:Dortmund Ballet brings Alexander Ekman’s “Midsummer Night’s Dream” to the LG Arts Center\, Seoul\, South Korea.\nMore info about Midsummer Night’s Dream on my dedicated webpage for the piece.
URL:https://mikaelk.com/event/alexander-ekmans-midsummer-nights-dream-dortmund-ballet-lg-arts-center-seoul-south-korea/
LOCATION:LG Arts Center\, 136 Magokjungang-ro\, Seoul\, Gangseo-gu\, Korea\, Democratic People's Republic of
END:VEVENT
END:VCALENDAR