BEGIN:VCALENDAR
VERSION:2.0
PRODID:-//Mikael Karlsson - ECPv6.15.20//NONSGML v1.0//EN
CALSCALE:GREGORIAN
METHOD:PUBLISH
X-ORIGINAL-URL:https://mikaelk.com
X-WR-CALDESC:Events for Mikael Karlsson
REFRESH-INTERVAL;VALUE=DURATION:PT1H
X-Robots-Tag:noindex
X-PUBLISHED-TTL:PT1H
BEGIN:VTIMEZONE
TZID:UTC
BEGIN:STANDARD
TZOFFSETFROM:+0000
TZOFFSETTO:+0000
TZNAME:UTC
DTSTART:20230101T000000
END:STANDARD
END:VTIMEZONE
BEGIN:VEVENT
DTSTART;VALUE=DATE:20240508
DTEND;VALUE=DATE:20240519
DTSTAMP:20260422T105145
CREATED:20240124T064019Z
LAST-MODIFIED:20240124T064019Z
UID:2490-1715126400-1716076799@mikaelk.com
SUMMARY:Midsummer Night's Dream - Stockholm
DESCRIPTION:Alexander Ekman’s hit MIDSUMMER NIGHT’S DREAM is back at the Royal Swedish Opera \nA universal theme\, the same longing for light summer nights\, a dream of the origin of everything\, a night of love and lust. The boundary between reality and the supernatural is unclear. Traditions are distorted\, the world changes\, and all of a sudden we become uncertain – is it all a dream? \nThe celebrated Swedish choreographer Alexander Ekman created the acclaimed performance Midsummer Night’s Dream for the Royal Swedish Ballet. Like Tyll\, Escapist\, and most recently Cacti (part of Ekman/Hjálmarsdóttir/Naharin)\, it was an immediate success at the Royal Swedish Opera. The music is by New York-based Mikael Karlsson\, who apart from several collaborations with Ekman has written the opera Melancholia\, with world premiere at the Royal Swedish Opera in 2023. \n(from the RSO website)
URL:https://mikaelk.com/event/midsummer-nights-dream-stockholm/
LOCATION:Royal Swedish Opera\, Gustav Adolfs torg 2\, Stockholm\, 11152\, Sweden
END:VEVENT
END:VCALENDAR